Workbook

Sheet podatki
A1: Datum | B1: Delnice | C1: Obveznice | D1: Zlato | E1: IndeksCen | F1: Kriptovalute | G1: MenjalniTecaj
A2: 36526 | B2: 1394.5 | D2: 283.23 | E2: 169.3 | G2: 1.0313
A3: 36557 | B3: 1366.4 | D3: 292.12 | E3: 170 | G3: 1.0367
A4: 36586 | B4: 1498.6 | D4: 278.95 | E4: 171 | G4: 1.0459
A5: 36617 | B5: 1452.4 | D5: 273.5 | E5: 170.9 | G5: 1.0959
A6: 36647 | B6: 1420.6 | D6: 272.15 | E6: 171.2 | G6: 1.0662
A7: 36678 | B7: 1454.6 | D7: 290.1 | E7: 172.2 | G7: 1.0498
A8: 36708 | B8: 1430.8 | D8: 277.25 | E8: 172.7 | G8: 1.0796
A9: 36739 | B9: 1517.7 | D9: 277.75 | E9: 172.7 | G9: 1.1254
A10: 36770 | B10: 1436.5 | D10: 274.25 | E10: 173.6 | G10: 1.1313
A11: 36800 | B11: 1429.4 | D11: 265.05 | E11: 173.9 | G11: 1.1778
A12: 36831 | B12: 1315 | D12: 270.35 | E12: 174.2 | G12: 1.1464
A13: 36861 | B13: 1320.3 | D13: 272.4 | E13: 174.6 | G13: 1.0611
... A21: 37104 | B21: 1133.6 | D21: 274.45 | E21: 177.4 | G21: 1.096
A22: 37135 | B22: 1040.9 | C22: 0.0221 | D22: 292.95 | E22: 178.1 | G22: 1.0969
A23: 37165 | B23: 1059.8 | C23: 0.02125 | D23: 279.65 | E23: 177.6 | G23: 1.1113
A24: 37196 | B24: 1139.5 | C24: 0.0185 | D24: 274.4 | E24: 177.5 | G24: 1.1155
A25: 37226 | B25: 1148.1 | C25: 0.0172 | D25: 278.95 | E25: 177.4 | G25: 1.1225
A26: 37257 | B26: 1130.2 | C26: 0.0169 | D26: 282.35 | E26: 177.7 | G26: 1.1646
A27: 37288 | B27: 1106.7 | C27: 0.01766 | D27: 296.95 | E27: 178 | G27: 1.1509
A28: 37316 | B28: 1147.4 | C28: 0.01761 | D28: 302.7 | E28: 178.5 | G28: 1.1471
A29: 37347 | B29: 1076.9 | C29: 0.01772 | D29: 308.35 | E29: 179.3 | G29: 1.1108
A30: 37377 | B30: 1067.1 | C30: 0.0172 | D30: 326.55 | E30: 179.5 | G30: 1.0708
A31: 37408 | B31: 989.8 | C31: 0.017 | D31: 314.62 | E31: 179.6 | G31: 1.0086
A32: 37438 | B32: 911.6 | C32: 0.01731 | D32: 303.55 | E32: 180 | G32: 1.0229
A33: 37469 | B33: 916.1 | C33: 0.0171 | D33: 312.75 | E33: 180.5 | G33: 1.0183
... A128: 40360 | B128: 1101.6 | C128: 0.00142 | D128: 1180.9 | E128: 217.605 | G128: 0.7662
A129: 40391 | B129: 1049.3 | C129: 0.00157 | D129: 1247.65 | E129: 217.923 | F129: 0.1 | G129: 0.7879
A130: 40422 | B130: 1141.2 | C130: 0.00142 | D130: 1309.5 | E130: 218.275 | F130: 0.1 | G130: 0.7334
A131: 40452 | B131: 1183.3 | C131: 0.00132 | D131: 1359.55 | E131: 219.035 | F131: 0.2 | G131: 0.7167
A132: 40483 | B132: 1180.5 | C132: 0.00157 | D132: 1384.85 | E132: 219.59 | F132: 0.2 | G132: 0.7702
A133: 40513 | B133: 1257.6 | C133: 0.00063 | D133: 1421.45 | E133: 220.472 | F133: 0.3 | G133: 0.7473
A134: 40544 | B134: 1286.1 | C134: 0.00142 | D134: 1332.19 | E134: 221.187 | F134: 0.5 | G134: 0.7304
A135: 40575 | B135: 1327.2 | C135: 0.00122 | D135: 1411.65 | E135: 221.898 | F135: 0.9 | G135: 0.7245
A136: 40603 | B136: 1325.8 | C136: 0.00061 | D136: 1432 | E136: 223.046 | F136: 0.8 | G136: 0.7057
A137: 40634 | B137: 1363.6 | C137: 0.00018 | D137: 1565.6 | E137: 224.093 | F137: 3.5 | G137: 0.6754
A138: 40664 | B138: 1345.2 | C138: 0.00036 | D138: 1535.35 | E138: 224.806 | F138: 8.7 | G138: 0.6946
A139: 40695 | B139: 1320.6 | C139: 8e-05 | D139: 1500.1 | E139: 224.806 | F139: 16.1 | G139: 0.6893
A140: 40725 | B140: 1292.3 | C140: 0.00172 | D140: 1626.64 | E140: 225.395 | F140: 13.4 | G140: 0.6946
... A310: 45901 | B310: 6688.46 | C310: 0.04116 | D310: 3858.51 | E310: 324.245 | F310: 114048.5 | G310: 0.8523
...

Sheet analiza
A1: Datum | B1: Zlato | C1: Kriptovalute | D1: Leto | E1: Mesec | F1: DonosnostZlato | G1: DonosnostKripto | H1: Portfelj50_50
A2: 40544 | B2: 1332.19 | C2: 0.5 | D2: =YEAR(Tabela13[[#This Row],[Datum]]) -> 2011 | E2: =MONTH(Tabela13[[#This Row],[Datum]]) -> 1 | F2: =(B3-Tabela13[[#This Row],[Zlato]])/Tabela13[[#This Row],[Zlato]] -> 0.059646147 | G2: =(C3-Tabela13[[#This Row],[Kriptovalute]])/Tabela13[[#This Row],[Kriptovalute]] -> 0.8
A3: 40575 | B3: 1411.65 | C3: 0.9 | D3: =YEAR(Tabela13[[#This Row],[Datum]]) -> 2011 | E3: =MONTH(Tabela13[[#This Row],[Datum]]) -> 2 | F3: =(B4-Tabela13[[#This Row],[Zlato]])/Tabela13[[#This Row],[Zlato]] -> 0.014415755 | G3: =(C4-Tabela13[[#This Row],[Kriptovalute]])/Tabela13[[#This Row],[Kriptovalute]] -> -0.11111111
A4: 40603 | B4: 1432 | C4: 0.8 | D4: =YEAR(Tabela13[[#This Row],[Datum]]) -> 2011 | E4: =MONTH(Tabela13[[#This Row],[Datum]]) -> 3 | F4: =(B5-Tabela13[[#This Row],[Zlato]])/Tabela13[[#This Row],[Zlato]] -> 0.093296089 | G4: =(C5-Tabela13[[#This Row],[Kriptovalute]])/Tabela13[[#This Row],[Kriptovalute]] -> 3.375
A5: 40634 | B5: 1565.6 | C5: 3.5 | D5: =YEAR(Tabela13[[#This Row],[Datum]]) -> 2011 | E5: =MONTH(Tabela13[[#This Row],[Datum]]) -> 4 | F5: =(B6-Tabela13[[#This Row],[Zlato]])/Tabela13[[#This Row],[Zlato]] -> -0.019321666 | G5: =(C6-Tabela13[[#This Row],[Kriptovalute]])/Tabela13[[#This Row],[Kriptovalute]] -> 1.4857143
A6: 40664 | B6: 1535.35 | C6: 8.7 | D6: =YEAR(Tabela13[[#This Row],[Datum]]) -> 2011 | E6: =MONTH(Tabela13[[#This Row],[Datum]]) -> 5 | F6: =(B7-Tabela13[[#This Row],[Zlato]])/Tabela13[[#This Row],[Zlato]] -> -0.022958934 | G6: =(C7-Tabela13[[#This Row],[Kriptovalute]])/Tabela13[[#This Row],[Kriptovalute]] -> 0.85057471
A7: 40695 | B7: 1500.1 | C7: 16.1 | D7: =YEAR(Tabela13[[#This Row],[Datum]]) -> 2011 | E7: =MONTH(Tabela13[[#This Row],[Datum]]) -> 6 | F7: =(B8-Tabela13[[#This Row],[Zlato]])/Tabela13[[#This Row],[Zlato]] -> 0.084354376 | G7: =(C8-Tabela13[[#This Row],[Kriptovalute]])/Tabela13[[#This Row],[Kriptovalute]] -> -0.16770186
A8: 40725 | B8: 1626.64 | C8: 13.4 | D8: =YEAR(Tabela13[[#This Row],[Datum]]) -> 2011 | E8: =MONTH(Tabela13[[#This Row],[Datum]]) -> 7 | F8: =(B9-Tabela13[[#This Row],[Zlato]])/Tabela13[[#This Row],[Zlato]] -> 0.12120691 | G8: =(C9-Tabela13[[#This Row],[Kriptovalute]])/Tabela13[[#This Row],[Kriptovalute]] -> -0.3880597
A9: 40756 | B9: 1823.8 | C9: 8.2 | D9: =YEAR(Tabela13[[#This Row],[Datum]]) -> 2011 | E9: =MONTH(Tabela13[[#This Row],[Datum]]) -> 8 | F9: =(B10-Tabela13[[#This Row],[Zlato]])/Tabela13[[#This Row],[Zlato]] -> -0.10968856 | G9: =(C10-Tabela13[[#This Row],[Kriptovalute]])/Tabela13[[#This Row],[Kriptovalute]] -> -0.37804878
A10: 40787 | B10: 1623.75 | C10: 5.1 | D10: =YEAR(Tabela13[[#This Row],[Datum]]) -> 2011 | E10: =MONTH(Tabela13[[#This Row],[Datum]]) -> 9 | F10: =(B11-Tabela13[[#This Row],[Zlato]])/Tabela13[[#This Row],[Zlato]] -> 0.056351039 | G10: =(C11-Tabela13[[#This Row],[Kriptovalute]])/Tabela13[[#This Row],[Kriptovalute]] -> -0.35294118
A11: 40817 | B11: 1715.25 | C11: 3.3 | D11: =YEAR(Tabela13[[#This Row],[Datum]]) -> 2011 | E11: =MONTH(Tabela13[[#This Row],[Datum]]) -> 10 | F11: =(B12-Tabela13[[#This Row],[Zlato]])/Tabela13[[#This Row],[Zlato]] -> 0.017752514 | G11: =(C12-Tabela13[[#This Row],[Kriptovalute]])/Tabela13[[#This Row],[Kriptovalute]] -> -0.090909091
A12: 40848 | B12: 1745.7 | C12: 3 | D12: =YEAR(Tabela13[[#This Row],[Datum]]) -> 2011 | E12: =MONTH(Tabela13[[#This Row],[Datum]]) -> 11 | F12: =(B13-Tabela13[[#This Row],[Zlato]])/Tabela13[[#This Row],[Zlato]] -> -0.10391247 | G12: =(C13-Tabela13[[#This Row],[Kriptovalute]])/Tabela13[[#This Row],[Kriptovalute]] -> 0.56666667
A13: 40878 | B13: 1564.3 | C13: 4.7 | D13: =YEAR(Tabela13[[#This Row],[Datum]]) -> 2011 | E13: =MONTH(Tabela13[[#This Row],[Datum]]) -> 12 | F13: =(B14-Tabela13[[#This Row],[Zlato]])/Tabela13[[#This Row],[Zlato]] -> 0.11195423 | G13: =(C14-Tabela13[[#This Row],[Kriptovalute]])/Tabela13[[#This Row],[Kriptovalute]] -> 0.17021277
... A121: 44166 | B121: 1896.49 | C121: 28949.4 | D121: =YEAR(Tabela13[[#This Row],[Datum]]) -> 2020 | E121: =MONTH(Tabela13[[#This Row],[Datum]]) -> 12 | F121: =(B122-Tabela13[[#This Row],[Zlato]])/Tabela13[[#This Row],[Zlato]] -> -0.02657541 | G121: =(C122-Tabela13[[#This Row],[Kriptovalute]])/Tabela13[[#This Row],[Kriptovalute]] -> 0.1436541
A122: 44197 | B122: 1846.09 | C122: 33108.1 | D122: =YEAR(Tabela13[[#This Row],[Datum]]) -> 2021 | E122: =MONTH(Tabela13[[#This Row],[Datum]]) -> 1 | F122: =(B123-Tabela13[[#This Row],[Zlato]])/Tabela13[[#This Row],[Zlato]] -> -0.060993776 | G122: =(C123-Tabela13[[#This Row],[Kriptovalute]])/Tabela13[[#This Row],[Kriptovalute]] -> 0.36413748 | H122: =10000*(1+(Tabela13[[#This Row],[DonosnostZlato]]+Tabela13[[#This Row],[DonosnostKripto]])/2) -> 11515.719
A123: 44228 | B123: 1733.49 | C123: 45164 | D123: =YEAR(Tabela13[[#This Row],[Datum]]) -> 2021 | E123: =MONTH(Tabela13[[#This Row],[Datum]]) -> 2 | F123: =(B124-Tabela13[[#This Row],[Zlato]])/Tabela13[[#This Row],[Zlato]] -> -0.015275542 | G123: =(C124-Tabela13[[#This Row],[Kriptovalute]])/Tabela13[[#This Row],[Kriptovalute]] -> 0.30111815 | H123: =10000*(1+(Tabela13[[#This Row],[DonosnostZlato]]+Tabela13[[#This Row],[DonosnostKripto]])/2) -> 11429.213
A124: 44256 | B124: 1707.01 | C124: 58763.7 | D124: =YEAR(Tabela13[[#This Row],[Datum]]) -> 2021 | E124: =MONTH(Tabela13[[#This Row],[Datum]]) -> 3 | F124: =(B125-Tabela13[[#This Row],[Zlato]])/Tabela13[[#This Row],[Zlato]] -> 0.036074774 | G124: =(C125-Tabela13[[#This Row],[Kriptovalute]])/Tabela13[[#This Row],[Kriptovalute]] -> -0.017755859 | H124: =10000*(1+(Tabela13[[#This Row],[DonosnostZlato]]+Tabela13[[#This Row],[DonosnostKripto]])/2) -> 10091.595
A125: 44287 | B125: 1768.59 | C125: 57720.3 | D125: =YEAR(Tabela13[[#This Row],[Datum]]) -> 2021 | E125: =MONTH(Tabela13[[#This Row],[Datum]]) -> 4 | F125: =(B126-Tabela13[[#This Row],[Zlato]])/Tabela13[[#This Row],[Zlato]] -> 0.077898213 | G125: =(C126-Tabela13[[#This Row],[Kriptovalute]])/Tabela13[[#This Row],[Kriptovalute]] -> -0.35380447 | H125: =10000*(1+(Tabela13[[#This Row],[DonosnostZlato]]+Tabela13[[#This Row],[DonosnostKripto]])/2) -> 8620.4687
A126: 44317 | B126: 1906.36 | C126: 37298.6 | D126: =YEAR(Tabela13[[#This Row],[Datum]]) -> 2021 | E126: =MONTH(Tabela13[[#This Row],[Datum]]) -> 5 | F126: =(B127-Tabela13[[#This Row],[Zlato]])/Tabela13[[#This Row],[Zlato]] -> -0.071633899 | G126: =(C127-Tabela13[[#This Row],[Kriptovalute]])/Tabela13[[#This Row],[Kriptovalute]] -> -0.060905771 | H126: =10000*(1+(Tabela13[[#This Row],[DonosnostZlato]]+Tabela13[[#This Row],[DonosnostKripto]])/2) -> 9337.3016
A127: 44348 | B127: 1769.8 | C127: 35026.9 | D127: =YEAR(Tabela13[[#This Row],[Datum]]) -> 2021 | E127: =MONTH(Tabela13[[#This Row],[Datum]]) -> 6 | F127: =(B128-Tabela13[[#This Row],[Zlato]])/Tabela13[[#This Row],[Zlato]] -> 0.024737258 | G127: =(C128-Tabela13[[#This Row],[Kriptovalute]])/Tabela13[[#This Row],[Kriptovalute]] -> 0.18633679 | H127: =10000*(1+(Tabela13[[#This Row],[DonosnostZlato]]+Tabela13[[#This Row],[DonosnostKripto]])/2) -> 11055.37
A128: 44378 | B128: 1813.58 | C128: 41553.7 | D128: =YEAR(Tabela13[[#This Row],[Datum]]) -> 2021 | E128: =MONTH(Tabela13[[#This Row],[Datum]]) -> 7 | F128: =(B129-Tabela13[[#This Row],[Zlato]])/Tabela13[[#This Row],[Zlato]] -> -8.2709337e-05 | G128: =(C129-Tabela13[[#This Row],[Kriptovalute]])/Tabela13[[#This Row],[Kriptovalute]] -> 0.13420466 | H128: =10000*(1+(Tabela13[[#This Row],[DonosnostZlato]]+Tabela13[[#This Row],[DonosnostKripto]])/2) -> 10670.61
A129: 44409 | B129: 1813.43 | C129: 47130.4 | D129: =YEAR(Tabela13[[#This Row],[Datum]]) -> 2021 | E129: =MONTH(Tabela13[[#This Row],[Datum]]) -> 8 | F129: =(B130-Tabela13[[#This Row],[Zlato]])/Tabela13[[#This Row],[Zlato]] -> -0.031305316 | G129: =(C130-Tabela13[[#This Row],[Kriptovalute]])/Tabela13[[#This Row],[Kriptovalute]] -> -0.070169148 | H129: =10000*(1+(Tabela13[[#This Row],[DonosnostZlato]]+Tabela13[[#This Row],[DonosnostKripto]])/2) -> 9492.6277
A130: 44440 | B130: 1756.66 | C130: 43823.3 | D130: =YEAR(Tabela13[[#This Row],[Datum]]) -> 2021 | E130: =MONTH(Tabela13[[#This Row],[Datum]]) -> 9 | F130: =(B131-Tabela13[[#This Row],[Zlato]])/Tabela13[[#This Row],[Zlato]] -> 0.014886205 | G130: =(C131-Tabela13[[#This Row],[Kriptovalute]])/Tabela13[[#This Row],[Kriptovalute]] -> 0.39901833 | H130: =10000*(1+(Tabela13[[#This Row],[DonosnostZlato]]+Tabela13[[#This Row],[DonosnostKripto]])/2) -> 12069.523
A131: 44470 | B131: 1782.81 | C131: 61309.6 | D131: =YEAR(Tabela13[[#This Row],[Datum]]) -> 2021 | E131: =MONTH(Tabela13[[#This Row],[Datum]]) -> 10 | F131: =(B132-Tabela13[[#This Row],[Zlato]])/Tabela13[[#This Row],[Zlato]] -> -0.0050650378 | G131: =(C132-Tabela13[[#This Row],[Kriptovalute]])/Tabela13[[#This Row],[Kriptovalute]] -> -0.072202396 | H131: =10000*(1+(Tabela13[[#This Row],[DonosnostZlato]]+Tabela13[[#This Row],[DonosnostKripto]])/2) -> 9613.6628
A132: 44501 | B132: 1773.78 | C132: 56882.9 | D132: =YEAR(Tabela13[[#This Row],[Datum]]) -> 2021 | E132: =MONTH(Tabela13[[#This Row],[Datum]]) -> 11 | F132: =(B133-Tabela13[[#This Row],[Zlato]])/Tabela13[[#This Row],[Zlato]] -> 0.030787358 | G132: =(C133-Tabela13[[#This Row],[Kriptovalute]])/Tabela13[[#This Row],[Kriptovalute]] -> -0.18746231 | H132: =10000*(1+(Tabela13[[#This Row],[DonosnostZlato]]+Tabela13[[#This Row],[DonosnostKripto]])/2) -> 9216.6252
A133: 44531 | B133: 1828.39 | C133: 46219.5 | D133: =YEAR(Tabela13[[#This Row],[Datum]]) -> 2021 | E133: =MONTH(Tabela13[[#This Row],[Datum]]) -> 12 | F133: =(B134-Tabela13[[#This Row],[Zlato]])/Tabela13[[#This Row],[Zlato]] -> -0.017457982 | G133: =(C134-Tabela13[[#This Row],[Kriptovalute]])/Tabela13[[#This Row],[Kriptovalute]] -> -0.16704854 | H133: =10000*(1+(Tabela13[[#This Row],[DonosnostZlato]]+Tabela13[[#This Row],[DonosnostKripto]])/2) -> 9077.4674
... A189: 46235 | B189: 4448.92 | C189: 78570.3 | D189: =YEAR(Tabela13[[#This Row],[Datum]]) -> 2026 | E189: =MONTH(Tabela13[[#This Row],[Datum]]) -> 8 | F189: =(B190-Tabela13[[#This Row],[Zlato]])/Tabela13[[#This Row],[Zlato]] -> -0.03713036 | G189: =(C190-Tabela13[[#This Row],[Kriptovalute]])/Tabela13[[#This Row],[Kriptovalute]] -> 0.067965885 | H189: =10000*(1+(Tabela13[[#This Row],[DonosnostZlato]]+Tabela13[[#This Row],[DonosnostKripto]])/2) -> 10154.178
A190: 46266 | B190: 4283.73 | C190: 83910.4 | D190: =YEAR(Tabela13[[#This Row],[Datum]]) -> 2026 | E190: =MONTH(Tabela13[[#This Row],[Datum]]) -> 9

Sheet b)

Sheet c)

Sheet d)+e)
B2: Srednje vrednosti
C4: Aritmetična sredina | D4: Mediana
B5: Donosnost zlata | C5: =AVERAGE(Tabela13[DonosnostZlato]) -> 0.0073697574 | D5: =MEDIAN(Tabela13[DonosnostZlato]) -> 0.001559884
B6: Donosnost bitcoina | C6: =AVERAGE(Tabela13[DonosnostKripto]) -> 0.12202394 | D6: =MEDIAN(Tabela13[DonosnostKripto]) -> 0.028856277
B8: Razpršenost
C10: Minimum | D10: Maksimum | E10: Variacijski razmik
B11: Donosnost zlata | C11: =MIN(Tabela13[DonosnostZlato]) -> -0.1169329 | D11: =MAX(Tabela13[DonosnostZlato]) -> 0.12751994 | E11: =D11-C11 -> 0.24445283
B12: Donosnost bitcoina | C12: =MIN(Tabela13[DonosnostKripto]) -> -0.38868769 | D12: =MAX(Tabela13[DonosnostKripto]) -> 4.7088068 | E12: =D12-C12 -> 5.0974945
C14: Prvi kvartil | D14: Tretji kvartil | E14: Medčetrtinski razmik
B15: Donosnost zlata | C15: =_xlfn.QUARTILE.EXC(Tabela13[DonosnostZlato],1) -> -0.023012642 | D15: =_xlfn.QUARTILE.EXC(Tabela13[DonosnostZlato],3) -> 0.036228544 | E15: =D15-C15 -> 0.059241186
B16: Donosnost bitcoina | C16: =_xlfn.QUARTILE.EXC(Tabela13[DonosnostKripto],1) -> -0.081095173 | D16: =_xlfn.QUARTILE.EXC(Tabela13[DonosnostKripto],3) -> 0.20252897 | E16: =D16-C16 -> 0.28362414
C18: Standardni odklon
B19: Donosnost zlata | C19: =_xlfn.STDEV.P(Tabela13[DonosnostZlato]) -> 0.047877566
B20: Donosnost bitcoina | C20: =_xlfn.STDEV.P(Tabela13[DonosnostKripto]) -> 0.50012909

Sheet f)
L2: Število pozitivnih | M2: Število negativnih | N2: Skupaj
K3: Donosnost zlata | L3: =COUNTIF(Tabela13[DonosnostZlato],">=0") -> 98 | M3: =COUNTIF(Tabela13[DonosnostZlato],"<0") -> 90 | N3: =SUM(L3:M3) -> 188
K4: Donosnost bitcoina | L4: =COUNTIF(Tabela13[DonosnostKripto],">=0") -> 109 | M4: =COUNTIF(Tabela13[DonosnostKripto],"<0") -> 79 | N4: =SUM(L4:M4) -> 188
L6: Delež pozitivnih | M6: Delež negativnih
K7: Donosnost zlata | L7: =L3/N3 -> 0.5212766 | M7: =M3/N3 -> 0.4787234
K8: Donosnost bitcoina | L8: =L4/N4 -> 0.57978723 | M8: =M4/N4 -> 0.42021277

Sheet g)
B23: Pearsonov korelacijski koeficient
B24: =CORREL(analiza!F38:F190,analiza!G38:G190) -> 0.051488838
D26: Povprečna donosnost
B27: Mesec | C27: Številka | D27: Zlato | E27: Bitcoin (od januarja 2014 dalje)
B28: Januar | C28: 1 | D28: =AVERAGEIF(Tabela13[Mesec],C28,Tabela13[DonosnostZlato]) -> 0.010159507 | E28: =AVERAGEIF(analiza!$E$38:$E$190,C28,analiza!$G$38:$G$190) -> 0.06790821
B29: Februar | C29: 2 | D29: =AVERAGEIF(Tabela13[Mesec],C29,Tabela13[DonosnostZlato]) -> 0.00477576 | E29: =AVERAGEIF(analiza!$E$38:$E$190,C29,analiza!$G$38:$G$190) -> -0.012128196
B30: Marec | C30: 3 | D30: =AVERAGEIF(Tabela13[Mesec],C30,Tabela13[DonosnostZlato]) -> 0.014718477 | E30: =AVERAGEIF(analiza!$E$38:$E$190,C30,analiza!$G$38:$G$190) -> 0.093910016
B31: April | C31: 4 | D31: =AVERAGEIF(Tabela13[Mesec],C31,Tabela13[DonosnostZlato]) -> -0.010299764 | E31: =AVERAGEIF(analiza!$E$38:$E$190,C31,analiza!$G$38:$G$190) -> 0.10709846
B32: Maj | C32: 5 | D32: =AVERAGEIF(Tabela13[Mesec],C32,Tabela13[DonosnostZlato]) -> -0.0089346822 | E32: =AVERAGEIF(analiza!$E$38:$E$190,C32,analiza!$G$38:$G$190) -> 0.001774341
B33: Junij | C33: 6 | D33: =AVERAGEIF(Tabela13[Mesec],C33,Tabela13[DonosnostZlato]) -> 0.017639469 | E33: =AVERAGEIF(analiza!$E$38:$E$190,C33,analiza!$G$38:$G$190) -> 0.074685205
B34: Julij | C34: 7 | D34: =AVERAGEIF(Tabela13[Mesec],C34,Tabela13[DonosnostZlato]) -> 0.028463931 | E34: =AVERAGEIF(analiza!$E$38:$E$190,C34,analiza!$G$38:$G$190) -> 0.0045473504
B35: Avgust | C35: 8 | D35: =AVERAGEIF(Tabela13[Mesec],C35,Tabela13[DonosnostZlato]) -> -0.016988494 | E35: =AVERAGEIF(analiza!$E$38:$E$190,C35,analiza!$G$38:$G$190) -> -0.02458246
B36: September | C36: 9 | D36: =AVERAGEIF(Tabela13[Mesec],C36,Tabela13[DonosnostZlato]) -> 0.011894778 | E36: =AVERAGEIF(analiza!$E$38:$E$190,C36,analiza!$G$38:$G$190) -> 0.16438947
B37: Oktober | C37: 10 | D37: =AVERAGEIF(Tabela13[Mesec],C37,Tabela13[DonosnostZlato]) -> -0.0096247522 | E37: =AVERAGEIF(analiza!$E$38:$E$190,C37,analiza!$G$38:$G$190) -> 0.072111514
B38: November | C38: 11 | D38: =AVERAGEIF(Tabela13[Mesec],C38,Tabela13[DonosnostZlato]) -> 0.0058647666 | E38: =AVERAGEIF(analiza!$E$38:$E$190,C38,analiza!$G$38:$G$190) -> 0.071217023
B39: December | C39: 12 | D39: =AVERAGEIF(Tabela13[Mesec],C39,Tabela13[DonosnostZlato]) -> 0.042063015 | E39: =AVERAGEIF(analiza!$E$38:$E$190,C39,analiza!$G$38:$G$190) -> -0.016078959

Sheet h)
B19: Srednje vrednosti
C21: Aritmetična sredina | D21: Mediana
B22: Končna vrednost | C22: =AVERAGE(analiza!H122:H190) -> 10205.145 | D22: =MEDIAN(analiza!H122:H190) -> 10137.595
B24: Razpršenost
C26: Standardni odklon
B27: Končna vrednost | C27: =_xlfn.STDEV.P(analiza!H122:H190) -> 885.025

Sheet i)
B18: Napoved z linearnim modelom
B20: =_xlfn.FORECAST.LINEAR(analiza!A190,analiza!H122:H189,analiza!A122:A189) -> 10250.924
